BEGIN:VCALENDAR
VERSION:2.0
PRODID:-//Weitschiessen - ECPv6.15.20//NONSGML v1.0//EN
CALSCALE:GREGORIAN
METHOD:PUBLISH
X-WR-CALNAME:Weitschiessen
X-ORIGINAL-URL:https://www.weitschiessen.de
X-WR-CALDESC:Veranstaltungen für Weitschiessen
REFRESH-INTERVAL;VALUE=DURATION:PT1H
X-Robots-Tag:noindex
X-PUBLISHED-TTL:PT1H
BEGIN:VTIMEZONE
TZID:Europe/Paris
BEGIN:DAYLIGHT
TZOFFSETFROM:+0100
TZOFFSETTO:+0200
TZNAME:CEST
DTSTART:20190331T010000
END:DAYLIGHT
BEGIN:STANDARD
TZOFFSETFROM:+0200
TZOFFSETTO:+0100
TZNAME:CET
DTSTART:20191027T010000
END:STANDARD
BEGIN:DAYLIGHT
TZOFFSETFROM:+0100
TZOFFSETTO:+0200
TZNAME:CEST
DTSTART:20200329T010000
END:DAYLIGHT
BEGIN:STANDARD
TZOFFSETFROM:+0200
TZOFFSETTO:+0100
TZNAME:CET
DTSTART:20201025T010000
END:STANDARD
BEGIN:DAYLIGHT
TZOFFSETFROM:+0100
TZOFFSETTO:+0200
TZNAME:CEST
DTSTART:20210328T010000
END:DAYLIGHT
BEGIN:STANDARD
TZOFFSETFROM:+0200
TZOFFSETTO:+0100
TZNAME:CET
DTSTART:20211031T010000
END:STANDARD
END:VTIMEZONE
BEGIN:VEVENT
DTSTART;VALUE=DATE:20200913
DTEND;VALUE=DATE:20200915
DTSTAMP:20260422T121659
CREATED:20200508T235121Z
LAST-MODIFIED:20220913T123607Z
UID:8829-1599958800-1600045199@www.weitschiessen.de
SUMMARY:Max-Aicher Cup 1: Sepp-Wimmer Ged. abgesagt
DESCRIPTION:Die Veranstaltung wurde abgesagt \n  \n  \nViews: 97
URL:https://www.weitschiessen.de/termine/max-aicher-cup-1-sepp-wimmer-gedaechtnis-turnier/
LOCATION:Weitenbahn Oberbergkirchen\, Aubenham 1\, Oberbergkirchen\, 84564
CATEGORIES:DESV
END:VEVENT
BEGIN:VEVENT
DTSTART;VALUE=DATE:20200920
DTEND;VALUE=DATE:20200922
DTSTAMP:20260422T121659
CREATED:20200508T235203Z
LAST-MODIFIED:20220913T123601Z
UID:8831-1600563600-1600649999@www.weitschiessen.de
SUMMARY:Max-Aicher Cup 2: Ruperti Cup abgesagt
DESCRIPTION:Die Veranstaltung wurde abgesagt \nViews: 97
URL:https://www.weitschiessen.de/termine/max-aicher-cup-2-ruperti-cup/
LOCATION:Weitenbahn Fridolfing\, Laufener Str. 25\, Fridolfing\, 83413
CATEGORIES:DESV
END:VEVENT
END:VCALENDAR